BEGIN:VCALENDAR
VERSION:2.0
BEGIN:VEVENT
DTSTART:20221103T190000
DTEND:20221103T203000
SUMMARY:Alicia Eggert - This Moment Used To Be The Future
LOCATION:The Interval at Long Now - San Francisco, California
DESCRIPTION:For more info: http://longnow.org/seminars/02022/nov/03/this-moment-used-to-be-future/
PRIORITY:3
END:VEVENT
END:VCALENDAR
